Workbook

Sheet Introduction
A1: TM | G1: Welcome! This Tool is designed to provide guidance to government contractors who handle Controlled Unclassified Information as they try to meet the requirements in NIST SP 800-171. The Tool allows you to perform a self-assessment, record the results, and create Plans of Action and Milestones ("POA&Ms") for requirements that are not met. This Tool also automatically calculates the DoD Assessment Methodology score (also called the SPRS score) based on the self-assessment results. This Tool will be most beneficial to small businesses with a limited number of employees and a small IT infrastructure. As the organization grows, we suggest migrating to a more robust GRC platform to better build and manage your cybersecurity and compliance programs.
G4: This Tool was created through the generous support of the CUI Institute's donors and sponsors. Please click here to make a tax-deductable donation to the Institute. Even small donations help us offset the cost of providing valuable resources like this Tool. If you are interested in sponsoring the Institute, please contact us at info@CUIInstitute.org.
G5: This tool is updated periodically with feature enhancements, bug fixes, and other changes. Be sure to register for our newsletter so that we can alert you when changes are made.
A6: Copyright 2021-2026, CMMC Information Institute, Inc. dba "CUI Institute". Released under the Creative Commons CC-BY-SA license. | G6: Although we have tried to make the Tool useful, it is being provided to you as-is, and nothing in the Tool is intended to serve as, nor does it serve as, legal or technical advice. To be clear, if you use the Tool or any of the information in it, you do so at your own risk. If you do not agree, you must not use the Tool. It's that simple.
G7: Worksheet Listing (Be sure to scroll down for additional information, including a background of the CMMC and SPRS programs and instructions for using the worksheets to conduct a self-assessment and calculate SPRS and FAR and Above scores)
A8: THIS TOOL IS PROVIDED BY THE COPYRIGHT HOLDERS AND CONTRIBUTORS "AS IS" AND ANY EXPRESS OR IMPLIED WARRANTIES, INCLUDING, BUT NOT LIMITED TO, THE IMPLIED WARRANTIES OF MERCHANTABILITY AND FITNESS FOR A PARTICULAR PURPOSE ARE DISCLAIMED. IN NO EVENT SHALL THE COPYRIGHT HOLDER OR CONTRIBUTORS BE LIABLE FOR ANY DIRECT, INDIRECT, INCIDENTAL, SPECIAL, EXEMPLARY, OR CONSEQUENTIAL DAMAGES (INCLUDING, BUT NOT LIMITED TO, PROCUREMENT OF SUBSTITUTE GOODS OR SERVICES; LOSS OF USE, DATA, OR PROFITS; OR BUSINESS INTERRUPTION) HOWEVER CAUSED AND ON ANY THEORY OF LIABILITY, WHETHER IN CONTRACT, STRICT LIABILITY, OR TORT (INCLUDING NEGLIGENCE OR OTHERWISE) ARISING IN ANY WAY OUT OF THE USE OF THIS SOFTWARE, EVEN IF ADVISED OF THE POSSIBILITY OF SUCH DAMAGE. | G8: This Tool consists of several worksheets, including:
G9: Introduction - This page. It provides a basic introduction to the tool and the different worksheets.
G10: Questionnaire - Used by organizations or their Managed Services Provider, Managed Security Service Provider, Consultant, etc. to help evaluate the overall maturity of the organization's cybersecurity program. For organizations with scores below about 70 points, and those who do not handle CUI, a gap analysis and remediation that focuses on FAR and Above Phase 1 may be more appropriate due to their relative immaturity. Organizations with scores above 70 are more likely to meet most of the Phase 1 requirements and thus could benefit from performing a gap analysis against all 110 controls. Remediation of any gaps can be prioritized based on the corresponding control/requirement's order in FAR and Above. For more details, please visit https://cmmcinfo.org/2022/05/11/cmmc-gap-analysis-client-engagement-process-and-questionnaire/
G11: System Overview & SSP Preamble - Provides a template for the "front matter", or preamble of a System Security Plan ("SSP"). This worksheet collects additional, basic information which must be defined under NIST SP 800-171/CMMC. Also displays FAR and Above and SPRS scores based on your answers in the SSP - DoD SPRS & Far and Above worksheet (described below). As a reminder, this SSP is used to define the security of a "system", or collection of devices, software, people, and information. The system that is the subject of this SSP may be made up of one or more subsystems.
G12: SSP - DoDAM & SPRS Score - Presents the NIST SP 800-171 requirements. This is where you should record your self-assessment results. Be sure to evaluate your organization against all of the assessment objectives for each requirement when you perform your self-assessment. We include a recommendation as to whether a particular requirement/objective is something a typical small or medium business is likely to be able to handle themselves ("DIY") or if it is something that should probably be outsourced ("Outsource"). In a few cases, the requirements will require a combination of outside help and company resources, and we refer to these as "Hybrid". See below for additional details. We also include an indicator as to whether the requirement can be subject to a Plan of Action and Milestone ("POA&M") while still allowing you to receive a Conditional CMMC Certification under CMMC v. 2.13.
G13: POA&Ms - Create and manage plans of action and milestones ("POA&Ms") here. POA&Ms describe how your organization will meet any requirements that are not fully implemented in the assessed system. References to the relevant control automatically appear in the POA&M list if the control is not fully implemented. You can reference NIST SP 800-53, specifically CA-5 and PM-4, for additional assistance in creating the POA&Ms. See below for additional details.
G14: The System Overview & SSP Preamble, SSP - DoDAM & SPRS Score, and POA&Ms worksheets are required to submit a SPRS score. As you conduct your gap assessment (on the SSP - DoD SPRS & FAR and Above worksheet), you will note that your organization is expected to have certain lists and other such information. The following worksheets help you build those lists.
G15: Privileged Accounts - NIST SP 800-171 and CMMC 2.0 require that you identify all of the "privileged accounts" in use in the system. These include administrator accounts, developer accounts, and other accounts that can change security settings, alter the operation/configuration of the system, sub-system, or component, or take other actions that impact the security of the system.
G16: Physical Location(s) Info - This is a list of all of the physical locations where FCI and/or CUI is created, processed, stored, and/or transmitted (i.e., "handled"). In some cases, your organization may decide to limit access to some physical locations to only certain employee roles. For example, if your organization has a closet where your servers are stored (i.e., a "data center"), you may limit physical access to that data center to only employees who are systems administrators to help reduce the likelihood of malicious activities. The physical locations list is referenced in the Hardware Inventory worksheet (below) to help you identify the user roles which are permitted to access the different physical locations where FCI or CUI is handled.
G17: Users Auth. to Access System - This is a list of all users who are authorized to access the system.
G18: User Roles - This is a list of all of the user roles relevant to the system. Roles are used to defined categories of users who are authorized to access certain information, take certain actions, etc. This allows the organization to more easily allocate and track authorizations as employees join the organization, change jobs within the organization, and/or leave the organization.
G19: Authorized Visitor List - A list of individuals authorized to visit the location, including whether the individual is authorized to access sensitive information (including CUI) and the area(s) the user is authorized to visit.
G20: Visitor Access Log - A log of individuals who have visited the location
... G43: For each security requirement that the organization has not fully implemented, indicate a date by which the organization currently plans to fully implement that requirement. The date farthest in the future will be used to populate the "Date When 110 Score Expected" field in the Information for SPRS Submission portion of the worksheet.
A44: Version 2025.03a

Sheet Questionnaire
A1: Client Name:
A2: Client Point of Contact (POC) Name:
A3: Client POC Title:
A4: Client POC E-mail Address:
A5: Client POC Phone Number:
A6: Date Questionnaire Completed:
A7: Questionnaire Score (calculated - 0 to 107) | B7: =SUM(C22:C45) -> 0
A9: At how many physical locations (offices, data centers, or other facilities) does your organization handle CUI or FCI?
A10: How many employees do you have, and how many are authorized to access government information?
A11: Total employees and contractors:
A12: Authorized to access Government Information
A13: How many accounts of the following types do you have in your organization's systems?
A14: Users
A15: Local Administrators
A16: Application
A17: Service
A18: Domain Administrator
A19: Other
A20: Do you allow employees to access your systems, including E-mail, collaboration, and cloud resources, from their personal devices (i.e., BYOD)?
A21: Can any of your employees work remotely? If so, can they work remotely using their own equipment or only organization-provided equipment?
A22: Do your organization's employees periodically receive security awareness training regarding the risks associated with their activities and any applicable policies, procedures, standards, etc. relevant to the systems they use to conduct the activities? | C22: =IF(OR(B22=References!A28, B22=""),0,IF(B22=References!A29,3,5)) -> 0
A23: Is your staff trained to recognize and properly handle sensitive information, such as bank accounts, social security numbers, design specifications, blueprints, Federal Contract Information (“FCI”) and Controlled Unclassified Information (“CUI”)? | C23: =IF(OR(B23="No", B23=""), 0, 3) -> 0
A24: Do you have a comprehensive list of all of the types of sensitive information (including FCI, CUI by type, and non-government information) in received, created, processed, stored, and/or transmitted by your organization? (If yes, we will ask you for a copy once a nondisclosure agreement is in place) | C24: =IF(OR(B24="No", B24=""), 0, 5) -> 0
A25: Do you have a comprehensive list of all hardware (including laptops, mobile devices, workstations, servers, printers, networking equipment, “smart devices” (like TVs, Alexas, etc.)) in use by your organization? (If yes, we will ask you for a copy once a nondisclosure agreement is in place) | C25: =IF(OR(B25="No", B25=""), 0, 3) -> 0
A26: Do you have a comprehensive list of all software (including operating systems, end-user software, and drivers) installed on the organization’s equipment? (If yes, we will ask you for a copy once a nondisclosure agreement is in place) | C26: =IF(OR(B26="No", B26=""), 0, 5) -> 0
A27: Do you have a comprehensive list of all cloud resources (including E-mail, file sharing, chat, collaboration, HR, payroll, and other resources) used by the organization? (If yes, we will ask you for a copy once a nondisclosure agreement is in place) | C27: =IF(OR(B27="No", B27=""), 0, 5) -> 0
A28: Do you have a network diagram? (If yes, we will ask you for a copy once a nondisclosure agreement is in place) | C28: =IF(OR(B28="No", B28=""), 0, 5) -> 0
A29: Can you show how and where sensitive information, and in particular FCI and CUI, is received, processed, stored, and transmitted within your organization? (If yes, we will ask you for a copy once a nondisclosure agreement is in place) | C29: =IF(OR(B29="No", B29=""), 0, 10) -> 0
A30: Do you have a list of all of your employees and contractors that includes their roles? If so, have you defined which roles are authorized to handle different categories of information (e.g., CUI vs FCI)? | C30: =IF(OR(B30=References!A32, B30=""), 0, IF(B30=References!A33, 3, 5)) -> 0
A31: Do all of your users have administrative privileges on their local computer (i.e., they are local administrators)? | C31: =IF(OR(B31="Yes", B31=""), 0, 5) -> 0
A32: Does your organization require multifactor authentication for:
A33: Remote Administration | C33: =IF(OR(B33="Yes", B33=""), 0, 5) -> 0
A34: All user remote access | C34: =IF(OR(B34="Yes", B34=""), 0, 3) -> 0
A35: All administrator logins | C35: =IF(OR(B35="Yes", B35=""), 0, 5) -> 0
A36: All user logins | C36: =IF(OR(B36="Yes", B36=""), 0, 3) -> 0
A37: Administrator access to cloud resources | C37: =IF(OR(B37="Yes", B37=""), 0, 5) -> 0
A38: All user access to cloud resources | C38: =IF(OR(B38="Yes", B38=""), 0, 3) -> 0
A39: Does your organization deploy Wi-Fi? If so, is the Wi-Fi network part of your corporate network or external to it? | C39: =IF(OR(B39="", B39=References!A37), 0, IF(B39=References!A36, 3, 5)) -> 0
A40: Does your organization have an incident response plan that describes roles and responsibilities? If so, do you routinely test the plan? (If you have a plan, we will ask for a copy once a nondisclosure agreement is in place)
A41: Plan | C41: =IF(OR(B41="Yes", B41=""), 0, 3) -> 0
...

Sheet System Overview & SSP Preamble
A1: System Security Plan | E1: Additional Assessor/Preparer Notes | F1: Relevant Notes from NIST
A2: FAR and Above Score (0 to 500) [Auto-calculated] | C2: ='SSP - DoDAM & SPRS Score'!C1 -> NIST SP 800-171 and CMMC v.2.13 Level 2 System Security Plan
A3: Information for SPRS Submission | B3: SPRS Score (-203 to 110) [Auto-calculated] | C3: =IF('SSP - DoDAM & SPRS Score'!N80=-1000,"No SSP, therefore an assessment could not be completed due to incomplete information and noncompliance with DFARS clause 252.204-7012. See NIST SP 800-171 3.12.4.",'SSP - DoDAM & SPRS Score'!#REF!) -> #REF!
B4: Date when 110 Score Expected [Auto-calculated] | C4: {=IF(C3>=110, "N/A", IF(MAX(IF('SSP - DoDAM & SPRS Score'!A15:OR15>TODAY(),'SSP - DoDAM & SPRS Score'!A15:OR15))=0, "Please Add Target Dates", MAX(IF('SSP - DoDAM & SPRS Score'!A15:OR15>TODAY(),'SSP - DoDAM & SPRS Score'!A15:OR15))))} -> #REF!
B5: Prepared by (Assessor Name)
B6: Prepared for (Organization Name)
B7: Date of Assessment
B8: CAGE Code(s) Supported by System
B9: System Description
A10: System Identification | B10: System Name/Title
B11: System Categorization - Confidentiality [MUST be at least Moderate if system handles CUI] | C11: Confidentiality
B12: System Categorization - Integrity | C12: Integrity
B13: System Categorization - Availability | C13: Availability
B14: System Unique Identifier
B15: Responsible Organization | C15: Name:
C16: Address:
C17: Phone:
B18: Information Owner(s): [Government point(s) of contact responsible for providing and/or receiving CUI] | C18: Name:
C19: Title:
C20: Office Address:
C21: Work Phone:
C22: E-mail Address:
B23: System Owner: [Assignment of security responsibility] | C23: Name:
C24: Title:
C25: Office Address:
C26: Work Phone:
C27: E-mail Address:
B28: System Security Officer: | C28: Name:
C29: Title:
C30: Office Address:
C31: Work Phone:
C32: E-mail Address:
B33: General Description/Purpose of the system: What is the function/purpose of the system? [Provide a short, high-level description of the function/purpose of the system]
B34: Number of End Users: [Provide the approximate number of users]
B35: System Management Functions (3.13.3b): | D35: See Security Functions defined below.
B36: Security Functions (3.1.5c): | D36: Establishing System Accounts, Configuring Access Authorizations (i.e. Permissions, Privileges), Configuring Settings for Events to be Audited, Establishing Intrusion Detection Parameters, Reviewing Audit Logs [Add Additional Relevant Functions As Necessary]
B37: Security Information | D37: Filtering Rules for Routers/Firewalls, Configuration Parameters for Security Services/Devices, Cryptographic Key Management Information, Access Control Lists, Audit Logs [Add Additional Relevant Information As Necessary]
B38: Non-Security Functions (3.1.6a, 3.13.3a): | D38: All functions/activities except the Security Functions identified above.
B39: Number of Privileged Users: [Provide the approximate number of administrators, including system administrators, database administrators, application administrators, etc.] | C39: System Administrators:
C40: Database Administrators:
...

Sheet SSP - DoDAM & SPRS Score
A1: Current DoDAM Score for SPRS: | B1: =110+(SUM(N3:N409)) -> -1203 | C1: NIST SP 800-171 and CMMC v.2.13 Level 2 System Security Plan
A2: NIST SP 800-171 Family/ CMMC Domain | B2: NIST SP 800-171 ID | C2: NIST SP 800-171 Sort Order | D2: CMMC Control | E2: DoD Assessment Methodology ("DoDAM") Score Value | F2: May be POA&M'ed under a CMMC Conditional Assessment | G2: SMB DIY or Outsource | H2: Security Requirement | I2: Assessment Objective | J2: DoD Comment to Assessor | K2: Description of how your organization meets the Security Requirement or Assessment Objective and Link to Evidence | L2: Implementation Status | M2: Target Implementation Completion Date | N2: Score Impact | R2: FAR and Above Control Score | S2: FAR and Above Raw Score | T2: FAR and Above Phase Score
A3: Access Control | B3: 3.1.1 | C3: 03.01.01.0 | D3: AC.L1-3.1.1 | E3: 5 | F3: =IF(E3=0, "", IF(OR(E3=5, E3=3, MID(D3, 4, 2)="L1"), "NOT POA&Mable", "POA&Mable")) -> NOT POA&Mable | G3: Hybrid | H3: Limit system access to authorized users, processes acting on behalf of authorized users, and devices (including other systems). | I3: Determine If: | J3: [No Comment Provided] | L3: =IF(AND(L4="Fully Implemented", L5="Fully Implemented", L6="Fully Implemented", L7="Fully Implemented", L8="Fully Implemented", L9="Fully Implemented"), "Fully Implemented", "") | N3: =IF(AND(L4="Fully Implemented", L5="Fully Implemented", L6="Fully Implemented",L7="Fully Implemented",L8="Fully Implemented",L9="Fully Implemented"), 0, -1*E3) -> -5 | R3: =IF(N3=0, E3, 0) -> 0 | S3: =SUM(R3:R76) -> 0 | T3: =IF(S3=SUM(E3:E76), 100, S3) -> 0
A4: Access Control | B4: 3.1.1[a] | C4: 03.01.01.a | D4: AC.L1-3.1.1 | G4: DIY | I4: authorized users are identified. | L4: Not Yet Assessed
A5: Access Control | B5: 3.1.1[b] | C5: 03.01.01.b | D5: AC.L1-3.1.1 | G5: Outsource | I5: processes acting on behalf of authorized users are identified. | L5: Not Yet Assessed
A6: Access Control | B6: 3.1.1[c] | C6: 03.01.01.c | D6: AC.L1-3.1.1 | G6: DIY | I6: devices (including other systems) authorized to connect to the system are identified. | L6: Not Yet Assessed
A7: Access Control | B7: 3.1.1[d] | C7: 03.01.01.d | D7: AC.L1-3.1.1 | G7: DIY | I7: system access is limited to authorized users. | L7: Not Yet Assessed
A8: Access Control | B8: 3.1.1[e] | C8: 03.01.01.e | D8: AC.L1-3.1.1 | G8: Outsource | I8: system access is limited to processes acting on behalf of authorized users. | L8: Not Yet Assessed
A9: Access Control | B9: 3.1.1[f] | C9: 03.01.01.f | D9: AC.L1-3.1.1 | G9: Outsource | I9: system access is limited to authorized devices (including other systems). | L9: Not Yet Assessed
A10: Access Control | B10: 3.1.2 | C10: 03.01.02.0 | D10: AC.L1-3.1.2 | E10: 5 | F10: =IF(E10=0, "", IF(OR(E10=5, E10=3, MID(D10, 4, 2)="L1"), "NOT POA&Mable", "POA&Mable")) -> NOT POA&Mable | G10: Outsource | H10: Limit system access to the types of transactions and functions that authorized users are permitted to execute. | I10: Determine if: | J10: [No Comment Provided] | L10: =IF(AND(L11="Fully Implemented", L12="Fully Implemented"), "Fully Implemented", "") | N10: =IF(AND(L11="Fully Implemented", L12="Fully Implemented"), 0, -1*E10) -> -5
A11: Access Control | B11: 3.1.2[a] | C11: 03.01.02.a | D11: AC.L1-3.1.2 | G11: Outsource | I11: the types of transactions and functions that authorized users are permitted to execute are defined | L11: Not Yet Assessed
A12: Access Control | B12: 3.1.2[b] | C12: 03.01.02.b | D12: AC.L1-3.1.2 | G12: Outsource | I12: system access is limited to the defined types of transactions and functions for authorized users. | L12: Not Yet Assessed | R12: =IF(N12=0, E12, 0) -> 0
A13: Access Control | B13: 3.1.3 | C13: 03.01.03.0 | D13: AC.L2-3.1.3 | E13: 1 | F13: =IF(E13=0, "", IF(OR(E13=5, E13=3, MID(D13, 4, 2)="L1"), "NOT POA&Mable", "POA&Mable")) -> POA&Mable | G13: Hybrid | H13: Control the flow of CUI in accordance with approved authorizations. | I13: Determine if: | J13: [No Comment Provided] | L13: =IF(AND(L14="Fully Implemented", L15="Fully Implemented", L16="Fully Implemented", L17="Fully Implemented", L18="Fully Implemented"), "Fully Implemented", "") | N13: =IF(AND(L14="Fully Implemented", L15="Fully Implemented", L16="Fully Implemented",L17="Fully Implemented",L18="Fully Implemented"), 0, -1*E13) -> -1
A14: Access Control | B14: 3.1.3[a] | C14: 03.01.03.a | D14: AC.L2-3.1.3 | G14: DIY | I14: information flow control policies are defined. | L14: Not Yet Assessed
A15: Access Control | B15: 3.1.3[b] | C15: 03.01.03.b | D15: AC.L2-3.1.3 | G15: Outsource | I15: methods and enforcement mechanisms for controlling the flow of CUI are defined. | L15: Not Yet Assessed | R15: =IF(N15=0, E15, 0) -> 0
A16: Access Control | B16: 3.1.3[c] | C16: 03.01.03.c | D16: AC.L2-3.1.3 | G16: DIY | I16: designated sources and destinations (e.g., networks, individuals, and devices) for CUI within systems and between interconnected systems are identified. | L16: Not Yet Assessed
A17: Access Control | B17: 3.1.3[d] | C17: 03.01.03.d | D17: AC.L2-3.1.3 | G17: Outsource | I17: authorizations for controlling the flow of CUI are defined. | L17: Not Yet Assessed
A18: Access Control | B18: 3.1.3[e] | C18: 03.01.03.e | D18: AC.L2-3.1.3 | G18: Outsource | I18: approved authorizations for controlling the flow of CUI are enforced. | L18: Not Yet Assessed
A19: Access Control | B19: 3.1.4 | C19: 03.01.04.0 | D19: AC.L2-3.1.4 | E19: 1 | F19: =IF(E19=0, "", IF(OR(E19=5, E19=3, MID(D19, 4, 2)="L1"), "NOT POA&Mable", "POA&Mable")) -> POA&Mable | G19: DIY | H19: Separate the duties of individuals to reduce the risk of malevolent activity without collusion. | I19: Determine if: | J19: [No Comment Provided] | L19: =IF(AND(L20="Fully Implemented", L21="Fully Implemented", L22="Fully Implemented"), "Fully Implemented", "") | N19: =IF(AND(OR(L20="Fully Implemented", L20="Not Permitted"), OR(L21="Fully Implemented", L21="Not Permitted"), OR(L22="Fully Implemented", L22="Not Permitted")), 0, -1*E19) -> -1
A20: Access Control | B20: 3.1.4[a] | C20: 03.01.04.a | D20: AC.L2-3.1.4 | G20: DIY | I20: the duties of individuals requiring separation to reduce the risk of malevolent activity are defined. | L20: Not Yet Assessed | R20: =IF(N20=0, E20, 0) -> 0
A21: Access Control | B21: 3.1.4[b] | C21: 03.01.04.b | D21: AC.L2-3.1.4 | G21: DIY | I21: organization-defined duties of individuals requiring separation are separated. | L21: Not Yet Assessed
A22: Access Control | B22: 3.1.4[c] | C22: 03.01.04.c | D22: AC.L2-3.1.4 | G22: DIY | I22: separate accounts for individuals whose duties and accesses must be separated to reduce the risk of malevolent activity or collusion are established | L22: Not Yet Assessed
A23: Access Control | B23: 3.1.5 | C23: 03.01.05.0 | D23: AC.L2-3.1.5 | E23: 3 | F23: =IF(E23=0, "", IF(OR(E23=5, E23=3, MID(D23, 4, 2)="L1"), "NOT POA&Mable", "POA&Mable")) -> NOT POA&Mable | G23: Outsource | H23: Employ the principle of least privilege, including for specific security functions and privileged accounts. | I23: Determine if: | J23: [No Comment Provided] | L23: =IF(AND(L24="Fully Implemented", L25="Fully Implemented", L26="Fully Implemented", L27="Fully Implemented"), "Fully Implemented", "") | N23: =IF(AND(L24="Fully Implemented", L25="Fully Implemented", L26="Fully Implemented",L27="Fully Implemented"), 0, -1*E23) -> -3 | R23: =IF(N23=0, E23, 0) -> 0
A24: Access Control | B24: 3.1.5[a] | C24: 03.01.05.a | D24: AC.L2-3.1.5 | G24: Outsource | I24: privileged accounts are identified. | L24: Not Yet Assessed | R24: =IF(N24=0, E24, 0) -> 0
A25: Access Control | B25: 3.1.5[b] | C25: 03.01.05.b | D25: AC.L2-3.1.5 | G25: Outsource | I25: access to privileged accounts is authorized in accordance with the principle of least privilege. | L25: Not Yet Assessed
A26: Access Control | B26: 3.1.5[c] | C26: 03.01.05.c | D26: AC.L2-3.1.5 | G26: Outsource | I26: security functions are identified. | L26: Not Yet Assessed
A27: Access Control | B27: 3.1.5[d] | C27: 03.01.05.d | D27: AC.L2-3.1.5 | G27: Outsource | I27: access to security functions is authorized in accordance with the principle of least privilege. | L27: Not Yet Assessed
A28: Access Control | B28: 3.1.6 | C28: 03.01.06.0 | D28: AC.L2-3.1.6 | E28: 1 | F28: =IF(E28=0, "", IF(OR(E28=5, E28=3, MID(D28, 4, 2)="L1"), "NOT POA&Mable", "POA&Mable")) -> POA&Mable | G28: Outsource | H28: Use non-privileged accounts or roles when accessing nonsecurity functions. | I28: Determine if: | J28: [No Comment Provided] | L28: =IF(AND(L29="Fully Implemented", L30="Fully Implemented"), "Fully Implemented", "") | N28: =IF(AND(L29="Fully Implemented", L30="Fully Implemented"), 0, -1*E28) -> -1 | R28: =IF(N28=0, E28, 0) -> 0
A29: Access Control | B29: 3.1.6[a] | C29: 03.01.06.a | D29: AC.L2-3.1.6 | G29: Outsource | I29: nonsecurity functions are identified. | L29: Not Yet Assessed
A30: Access Control | B30: 3.1.6[b] | C30: 03.01.06.b | D30: AC.L2-3.1.6 | G30: Outsource | I30: users are required to use non-privileged accounts or roles when accessing nonsecurity functions. | L30: Not Yet Assessed
A31: Access Control | B31: 3.1.7 | C31: 03.01.07.0 | D31: AC.L2-3.1.7 | E31: 1 | F31: =IF(E31=0, "", IF(OR(E31=5, E31=3, MID(D31, 4, 2)="L1"), "NOT POA&Mable", "POA&Mable")) -> POA&Mable | G31: Outsource | H31: Prevent non-privileged users from executing privileged functions and capture the execution of such functions in audit logs. | I31: Determine if: | J31: [No Comment Provided] | L31: =IF(AND(L32="Fully Implemented", L33="Fully Implemented", L34="Fully Implemented", L35="Fully Implemented"), "Fully Implemented", "") | N31: =IF(AND(L32="Fully Implemented", L33="Fully Implemented", L34="Fully Implemented",L35="Fully Implemented"), 0, -1*E31) -> -1 | R31: =IF(N31=0, E31, 0) -> 0
A32: Access Control | B32: 3.1.7[a] | C32: 03.01.07.a | D32: AC.L2-3.1.7 | G32: Outsource | I32: privileged functions are defined. | L32: Not Yet Assessed
A33: Access Control | B33: 3.1.7[b] | C33: 03.01.07.b | D33: AC.L2-3.1.7 | G33: Outsource | I33: non-privileged users are defined. | L33: Not Yet Assessed
A34: Access Control | B34: 3.1.7[c] | C34: 03.01.07.c | D34: AC.L2-3.1.7 | G34: Outsource | I34: non-privileged users are prevented from executing privileged functions. | L34: Not Yet Assessed
A35: Access Control | B35: 3.1.7[d] | C35: 03.01.07.d | D35: AC.L2-3.1.7 | G35: Outsource | I35: the execution of privileged functions is captured in audit logs. | L35: Not Yet Assessed
A36: Access Control | B36: 3.1.8 | C36: 03.01.08.0 | D36: AC.L2-3.1.8 | E36: 1 | F36: =IF(E36=0, "", IF(OR(E36=5, E36=3, MID(D36, 4, 2)="L1"), "NOT POA&Mable", "POA&Mable")) -> POA&Mable | G36: DIY | H36: Limit unsuccessful logon attempts. | I36: Determine if: | J36: [No Comment Provided] | L36: =IF(AND(L37="Fully Implemented", L38="Fully Implemented"), "Fully Implemented", "") | N36: =IF(AND(L37="Fully Implemented", L38="Fully Implemented"), 0, -1*E36) -> -1
A37: Access Control | B37: 3.1.8[a] | C37: 03.01.08.a | D37: AC.L2-3.1.8 | F37: =IF(E37=0, "", IF(OR(E37=5, E37=3, MID(D37, 4, 2)="L1"), "NOT POA&Mable", "POA&Mable")) | G37: DIY | I37: the means of limiting unsuccessful logon attempts is defined. | L37: Not Yet Assessed
A38: Access Control | B38: 3.1.8[b] | C38: 03.01.08.b | D38: AC.L2-3.1.8 | F38: =IF(E38=0, "", IF(OR(E38=5, E38=3, MID(D38, 4, 2)="L1"), "NOT POA&Mable", "POA&Mable")) | G38: DIY | I38: the defined means of limiting unsuccessful logon attempts is implemented. | L38: Not Yet Assessed | R38: =IF(N38=0, E38, 0) -> 0
A39: Access Control | B39: 3.1.9 | C39: 03.01.09.0 | D39: AC.L2-3.1.9 | E39: 1 | F39: =IF(E39=0, "", IF(OR(E39=5, E39=3, MID(D39, 4, 2)="L1"), "NOT POA&Mable", "POA&Mable")) -> POA&Mable | G39: DIY | H39: Provide privacy and security notices consistent with applicable CUI rules. | I39: Determine if: | J39: [No Comment Provided] | L39: =IF(AND(L40="Fully Implemented", L41="Fully Implemented"), "Fully Implemented", "") | N39: =IF(AND(L40="Fully Implemented", L41="Fully Implemented"), 0, -1*E39) -> -1
A40: Access Control | B40: 3.1.9[a] | C40: 03.01.09.a | D40: AC.L2-3.1.9 | F40: =IF(E40=0, "", IF(OR(E40=5, E40=3, MID(D40, 4, 2)="L1"), "NOT POA&Mable", "POA&Mable")) | G40: DIY | I40: privacy and security notices required by CUI-specified rules are identified, consistent, and associated with the specific CUI category | L40: Not Yet Assessed
...

Sheet POA&Ms
B1: Relevant Requirement(s)/Objective(s): | C1: 3.12.2a, 3.12.2b | D1: Last Reviewed by (and on):
A2: Plans of Action and Milestones (Scroll Down for Complete List)
A3: Requirement/Objective w/Other Than Fully Addressed Status | B3: Responsible Office/Organization | C3: Resource Estimate (Funded, Unfunded, Reallocated) | D3: Initial Remediation Plan Milestones with Interim Completion Dates | E3: Changes to Milestones
A4: =IF('SSP - DoDAM & SPRS Score'!L3<>"Fully Addressed", 'SSP - DoDAM & SPRS Score'!B3& " - " &IF('SSP - DoDAM & SPRS Score'!H3<>"", 'SSP - DoDAM & SPRS Score'!H3, 'SSP - DoDAM & SPRS Score'!I3)) -> 3.1.1 - Limit system access to authorized users, processes acting on behalf of authorized users, and devices (including other systems).
A5: =IF(AND('SSP - DoDAM & SPRS Score'!L4<>"Fully Addressed", 'SSP - DoDAM & SPRS Score'!L4<>"Not Assessed"), 'SSP - DoDAM & SPRS Score'!B4& " - " &IF('SSP - DoDAM & SPRS Score'!H4<>"", 'SSP - DoDAM & SPRS Score'!H4, 'SSP - DoDAM & SPRS Score'!I4)) -> 3.1.1[a] - authorized users are identified.
A6: =IF('SSP - DoDAM & SPRS Score'!L5<>"Fully Addressed", 'SSP - DoDAM & SPRS Score'!B5& " - " &IF('SSP - DoDAM & SPRS Score'!H5<>"", 'SSP - DoDAM & SPRS Score'!H5, 'SSP - DoDAM & SPRS Score'!I5)) -> 3.1.1[b] - processes acting on behalf of authorized users are identified.
A7: =IF('SSP - DoDAM & SPRS Score'!L6<>"Fully Addressed", 'SSP - DoDAM & SPRS Score'!B6& " - " &IF('SSP - DoDAM & SPRS Score'!H6<>"", 'SSP - DoDAM & SPRS Score'!H6, 'SSP - DoDAM & SPRS Score'!I6)) -> 3.1.1[c] - devices (including other systems) authorized to connect to the system are identified.
A8: =IF('SSP - DoDAM & SPRS Score'!L7<>"Fully Addressed", 'SSP - DoDAM & SPRS Score'!B7& " - " &IF('SSP - DoDAM & SPRS Score'!H7<>"", 'SSP - DoDAM & SPRS Score'!H7, 'SSP - DoDAM & SPRS Score'!I7)) -> 3.1.1[d] - system access is limited to authorized users.
A9: =IF('SSP - DoDAM & SPRS Score'!L8<>"Fully Addressed", 'SSP - DoDAM & SPRS Score'!B8& " - " &IF('SSP - DoDAM & SPRS Score'!H8<>"", 'SSP - DoDAM & SPRS Score'!H8, 'SSP - DoDAM & SPRS Score'!I8)) -> 3.1.1[e] - system access is limited to processes acting on behalf of authorized users.
A10: =IF('SSP - DoDAM & SPRS Score'!L9<>"Fully Addressed", 'SSP - DoDAM & SPRS Score'!B9& " - " &IF('SSP - DoDAM & SPRS Score'!H9<>"", 'SSP - DoDAM & SPRS Score'!H9, 'SSP - DoDAM & SPRS Score'!I9)) -> 3.1.1[f] - system access is limited to authorized devices (including other systems).
A11: =IF('SSP - DoDAM & SPRS Score'!L10<>"Fully Addressed", 'SSP - DoDAM & SPRS Score'!B10& " - " &IF('SSP - DoDAM & SPRS Score'!H10<>"", 'SSP - DoDAM & SPRS Score'!H10, 'SSP - DoDAM & SPRS Score'!I10)) -> 3.1.2 - Limit system access to the types of transactions and functions that authorized users are permitted to execute.
A12: =IF('SSP - DoDAM & SPRS Score'!L11<>"Fully Addressed", 'SSP - DoDAM & SPRS Score'!B11& " - " &IF('SSP - DoDAM & SPRS Score'!H11<>"", 'SSP - DoDAM & SPRS Score'!H11, 'SSP - DoDAM & SPRS Score'!I11)) -> 3.1.2[a] - the types of transactions and functions that authorized users are permitted to execute are defined
A13: =IF('SSP - DoDAM & SPRS Score'!L12<>"Fully Addressed", 'SSP - DoDAM & SPRS Score'!B12& " - " &IF('SSP - DoDAM & SPRS Score'!H12<>"", 'SSP - DoDAM & SPRS Score'!H12, 'SSP - DoDAM & SPRS Score'!I12)) -> 3.1.2[b] - system access is limited to the defined types of transactions and functions for authorized users.
A14: =IF('SSP - DoDAM & SPRS Score'!L13<>"Fully Addressed", 'SSP - DoDAM & SPRS Score'!B13& " - " &IF('SSP - DoDAM & SPRS Score'!H13<>"", 'SSP - DoDAM & SPRS Score'!H13, 'SSP - DoDAM & SPRS Score'!I13)) -> 3.1.3 - Control the flow of CUI in accordance with approved authorizations.
A15: =IF('SSP - DoDAM & SPRS Score'!L14<>"Fully Addressed", 'SSP - DoDAM & SPRS Score'!B14& " - " &IF('SSP - DoDAM & SPRS Score'!H14<>"", 'SSP - DoDAM & SPRS Score'!H14, 'SSP - DoDAM & SPRS Score'!I14)) -> 3.1.3[a] - information flow control policies are defined.
A16: =IF('SSP - DoDAM & SPRS Score'!L15<>"Fully Addressed", 'SSP - DoDAM & SPRS Score'!B15& " - " &IF('SSP - DoDAM & SPRS Score'!H15<>"", 'SSP - DoDAM & SPRS Score'!H15, 'SSP - DoDAM & SPRS Score'!I15)) -> 3.1.3[b] - methods and enforcement mechanisms for controlling the flow of CUI are defined.
A17: =IF('SSP - DoDAM & SPRS Score'!L16<>"Fully Addressed", 'SSP - DoDAM & SPRS Score'!B16& " - " &IF('SSP - DoDAM & SPRS Score'!H16<>"", 'SSP - DoDAM & SPRS Score'!H16, 'SSP - DoDAM & SPRS Score'!I16)) -> 3.1.3[c] - designated sources and destinations (e.g., networks, individuals, and devices) for CUI within systems and between interconnected systems are identified.
... A88: =IF('SSP - DoDAM & SPRS Score'!L87<>"Fully Addressed", 'SSP - DoDAM & SPRS Score'!B87& " - " &IF('SSP - DoDAM & SPRS Score'!H87<>"", 'SSP - DoDAM & SPRS Score'!H87, 'SSP - DoDAM & SPRS Score'!I87)) -> 3.1.21[b] - limits on the use of organizational portable storage devices containing CUI on external systems are defined.
A89: =IF('SSP - DoDAM & SPRS Score'!L89<>"Fully Addressed", 'SSP - DoDAM & SPRS Score'!B89& " - " &IF('SSP - DoDAM & SPRS Score'!H89<>"", 'SSP - DoDAM & SPRS Score'!H89, 'SSP - DoDAM & SPRS Score'!I89)) -> 3.1.22 - Control CUI posted or processed on publicly accessible systems.
A90: =IF('SSP - DoDAM & SPRS Score'!L90<>"Fully Addressed", 'SSP - DoDAM & SPRS Score'!B90& " - " &IF('SSP - DoDAM & SPRS Score'!H90<>"", 'SSP - DoDAM & SPRS Score'!H90, 'SSP - DoDAM & SPRS Score'!I90)) -> 3.1.22[a] - individuals authorized to post or process information on publicly accessible systems are identified.
A91: =IF('SSP - DoDAM & SPRS Score'!L91<>"Fully Addressed", 'SSP - DoDAM & SPRS Score'!B91& " - " &IF('SSP - DoDAM & SPRS Score'!H91<>"", 'SSP - DoDAM & SPRS Score'!H91, 'SSP - DoDAM & SPRS Score'!I91)) -> 3.1.22[b] - procedures to ensure CUI is not posted or processed on publicly accessible systems are identified.
A92: =IF('SSP - DoDAM & SPRS Score'!L92<>"Fully Addressed", 'SSP - DoDAM & SPRS Score'!B92& " - " &IF('SSP - DoDAM & SPRS Score'!H92<>"", 'SSP - DoDAM & SPRS Score'!H92, 'SSP - DoDAM & SPRS Score'!I92)) -> 3.1.22[c] - a review process in in place prior to posting of any content to publicly accessible systems.
A93: =IF('SSP - DoDAM & SPRS Score'!L93<>"Fully Addressed", 'SSP - DoDAM & SPRS Score'!B93& " - " &IF('SSP - DoDAM & SPRS Score'!H93<>"", 'SSP - DoDAM & SPRS Score'!H93, 'SSP - DoDAM & SPRS Score'!I93)) -> 3.1.22[d] - content on publicly accessible information systems is reviewed to ensure that it does not include CUI.
A94: =IF('SSP - DoDAM & SPRS Score'!L94<>"Fully Addressed", 'SSP - DoDAM & SPRS Score'!B94& " - " &IF('SSP - DoDAM & SPRS Score'!H94<>"", 'SSP - DoDAM & SPRS Score'!H94, 'SSP - DoDAM & SPRS Score'!I94)) -> 3.1.22[e] - mechanisms are in place to remove and address improper posting of CUI.
A95: =IF('SSP - DoDAM & SPRS Score'!L95<>"Fully Addressed", 'SSP - DoDAM & SPRS Score'!B95& " - " &IF('SSP - DoDAM & SPRS Score'!H95<>"", 'SSP - DoDAM & SPRS Score'!H95, 'SSP - DoDAM & SPRS Score'!I95)) -> 3.2.1 - Ensure that managers, systems administrators, and users of organizational systems are made aware of the security risks associated with their activities and of the applicable policies, standards, and procedures related to the security of those systems.
A96: =IF('SSP - DoDAM & SPRS Score'!L96<>"Fully Addressed", 'SSP - DoDAM & SPRS Score'!B96& " - " &IF('SSP - DoDAM & SPRS Score'!H96<>"", 'SSP - DoDAM & SPRS Score'!H96, 'SSP - DoDAM & SPRS Score'!I96)) -> 3.2.1[a] - security risks associated with organizational activities involving CUI are identified.
A97: =IF('SSP - DoDAM & SPRS Score'!L97<>"Fully Addressed", 'SSP - DoDAM & SPRS Score'!B97& " - " &IF('SSP - DoDAM & SPRS Score'!H97<>"", 'SSP - DoDAM & SPRS Score'!H97, 'SSP - DoDAM & SPRS Score'!I97)) -> 3.2.1[b] - policies, standards, and procedures related to the security of the system are identified.
A98: =IF('SSP - DoDAM & SPRS Score'!L98<>"Fully Addressed", 'SSP - DoDAM & SPRS Score'!B98& " - " &IF('SSP - DoDAM & SPRS Score'!H98<>"", 'SSP - DoDAM & SPRS Score'!H98, 'SSP - DoDAM & SPRS Score'!I98)) -> 3.2.1[c] - managers, systems administrators, and users of the system are made aware of the security risks associated with their activities.
A99: =IF('SSP - DoDAM & SPRS Score'!L99<>"Fully Addressed", 'SSP - DoDAM & SPRS Score'!B99& " - " &IF('SSP - DoDAM & SPRS Score'!H99<>"", 'SSP - DoDAM & SPRS Score'!H99, 'SSP - DoDAM & SPRS Score'!I99)) -> 3.2.1[d] - managers, systems administrators, and users of the system are made aware of the applicable policies, standards, and procedures related to the security of the system.
A100: =IF('SSP - DoDAM & SPRS Score'!L100<>"Fully Addressed", 'SSP - DoDAM & SPRS Score'!B100& " - " &IF('SSP - DoDAM & SPRS Score'!H100<>"", 'SSP - DoDAM & SPRS Score'!H100, 'SSP - DoDAM & SPRS Score'!I100)) -> 3.2.2 - Ensure that organizational personnel are adequately trained to carry out their assigned information security-related duties and responsibilities.
... A410: =IF('SSP - DoDAM & SPRS Score'!L410<>"Fully Addressed", 'SSP - DoDAM & SPRS Score'!B410& " - " &IF('SSP - DoDAM & SPRS Score'!H410<>"", 'SSP - DoDAM & SPRS Score'!H410, 'SSP - DoDAM & SPRS Score'!I410)) -> -

Sheet Privileged Accounts
A1: Relevant Requirement(s)/Objective(s): | B1: 3.1.5a, 3.1.15a, 3.1.15b, 3.5.3a | C1: Last Reviewed by: | E1: Last Reviewed on:
A2: Account Name | B2: Account Purpose | C2: List of Cloud Services and External Systems Account is Authorized to Access | D2: List of Systems/Subsystems/ Hardware Account is Authorized to Access | E2: List of Software Account is Authorized to Access | F2: Is Account Authorized to Access System Remotely? (Yes/No) | G2: Is Account Authorized to Access System Security Information Remotely? (Yes/No) | H2: List of Privileged Commands Account is Authorized to Remotely Execute | I2: List of Security Information Types Account is Authorized to Remotely Access | J2: List of User(s)/Role(s) of Which Account is Authorized to Act on Behalf | K2: Date Password Last Changed

Sheet Physical Location(s) Info.
A1: Relevant Requirement(s)/ Objective(s): | B1: 3.10.1a, 3.10.5a | C1: Last Reviewed By: | E1: Last Reviewed On:
C2: Location 1 | D2: Location 2 | E2: Location 3 | F2: Location 4
A3: Location Name/Description
A4: Address 1
A5: Address 2
A6: City
A7: State
A8: Country
A9: Postal Code
A10: Room(s)/Floor(s)/Cage(s)
A11: Accountable Role/Individual
A12: Entry 1 | B12: Location
B13: Physical Access Device
B14: Other Description
A15: Entry 2 | B15: Location
B16: Physical Access Device
B17: Other Description
A18: Entry 3 | B18: Location
B19: Physical Access Device
B20: Other Description
A21: Entry 4 | B21: Location
B22: Physical Access Device
B23: Other Description

Sheet Users Auth. to Access System
A1: Relevant Requirement(s)/ Objective(s): | B1: 3.1.1a, 3.5.1a | C1: Last Reviewed By: | E1: Last Reviewed On:
A2: User ID | B2: Access Authorization Start Date | C2: Access Authorization End Date | D2: Account Authorized By (Name) | E2: User First Name | F2: User Last Name | G2: Organization Name | H2: E-mail Address | I2: User Role(s) | J2: Date Account Created | K2: Date Account Disabled

Sheet User Roles
A1: Relevant Requirement(s)/ Objective(s): | B1: 3.1.2a, 3.1.22b | C1: Last Reviewed By: | E1: Last Reviewed On:
A2: Role Name/Description | B2: Authorized to Access System Remotely (Yes/No) | C2: Authorized to Post or Process Information on Publicly Accessible Systems (Yes/No) | D2: Authorized to Read FCI (Yes/No) | E2: Authorized to Create FCI (Yes/No) | F2: Authorized to Delete FCI (Yes/No) | G2: Authorized to Modify/Update FCI (Yes/No) | H2: Type(s) of CUI Users in this Role are Authorized to Read | I2: Type(s) of CUI Users in this Role are Authorized to Create | J2: Type(s) of CUI Users in this Role are Authorized to Delete | K2: Type(s) of CUI Users in this Role are Authorized to Modify/Update

Sheet Authorized Visitor List
A1: Visitor First Name | B1: Visitor Last Name | C1: Visitor Organization | D1: Role | E1: Mobile Phone | F1: Purpose of Visit(s) | G1: Visit Authorized By | H1: Authorization Begins | I1: Authorization Ends | J1: Information Categories Individual is Authorized to View/Access | K1: Area(s) Invididual is Authorized to Visit | L1: Escort Required

Sheet Visitor Access Log
A1: Visitor First Name | B1: Visitor Last Name | C1: Arrival Date | D1: Arrival Time | E1: Previously Authorized? | F1: Authorized By | G1: Escort Name | H1: Departure Date | I1: Departure Time

Sheet Sub-Systems
A1: Organization Name: | G1: Inventory Date | I1: Inventoried By
A2: System Name/ Description | B2: Accessible by the Public? | C2: Potential Business Impact | F2: Physical Machine(s)/ Cloud Service Provider | G2: Virtual Machine(s)/ Capabilities | H2: Datacenter/Office | I2: Subnet/VLAN | J2: Responsible Technical Point(s) of Contact (Role/Person) | K2: Accountable System Owner (Role)
C3: Confidentiality | D3: Integrity | E3: Availability

Sheet Hardware Inventory
A1: Relevant Requirement(s)/ Objective(s): | B1: 3.1.1c, 3.1.16a, 3.1.14a, 3.1.13a, 3.1.18a, 3.1.19a, 3.1.19b, 3.5.1c, 3.10.1a, 3.13.5a, 3.13.12a, 3.14.2a | C1: Last Reviewed By: | E1: Last Reviewed On:
A2: Asset Name/ID | B2: Of Which System(s)/ Subsystem(s) is this a Part (if any)? | C2: Hardware Make/OEM | D2: Mobile Device (Yes/No) | E2: Model | F2: Version | G2: BIOS Version | H2: Operating System | I2: Operating System Version | J2: Includes Wireless Access Point (Yes/No) | K2: Name and Version of Encryption Module Used to Secure Wireless Access (Include link to FIPS 140 Validation) | L2: Provides Managed Remote Access to System (Yes/No) | M2: Publicly Accessible? (Yes/No) | N2: Collaborative Computing Device? (Yes/No) | O2: Authorized to Connect Remotely (Yes/No) | P2: Name and Version of Encryption Module used to Secure Remote Access Sessions (Include link to FIPS 140 Validation) | Q2: Malicious Code Protection Required (Yes/No) | R2: End of Life/End of Support Date | S2: Accountable person/role | T2: Physical Location(s) from which Hardware Operates | U2: Role(s) Permitted Physical Access | V2: Stores, Transmits, or Processes FCI (Yes/No) | W2: CUI Type(s) Stored, Processed, or Transmitted | X2: Is Data Stored on the Device Encrypted by Default? (Yes/No) | Y2: Name and Version Number of Encryption Module used to Secure Data Stored on the Device (Include link to FIPS 140 Validation) | Z2: Asset Category*
AA3: *See CMMC Scoping Guide for Asset Category Descriptions
AA4: OUSD A&S - Cybersecurity Maturity Model Certification (CMMC) (osd.mil)

Sheet Software Inventory
A1: Relevant Requirement(s)/ Objective(s): | B1: 3.1.1b, 3.4.8b, 3.5.1b | C1: Last Reviewed By: | E1: Last Reviewed On:
A2: Category/Purpose | B2: Developer | C2: Software Title/Name | D2: Version | E2: Latest Update | F2: Installed on System/Hardware | G2: Responsible Person or Role | H2: Authorized to Perform Actions on Behalf of a User? (Yes/No) | I2: Stores, Transmits, or Processes FCI | J2: CUI Type(s) Stored, Processed, or Transmitted | K2: Asset Category
M3: See CMMC Scoping Guide for Asset Category Descriptions
M4: OUSD A&S - Cybersecurity Maturity Model Certification (CMMC) (osd.mil)

Sheet Cloud Svc. & Ext. Syst Invent.
A1: Relevant Requirement(s)/ Objective(s): | B1: 3.1.20a, 3.1.20b | C1: Last Reviewed By: | E1: Last Reviewed On:
A2: Category/Purpose | B2: External System/Cloud Service Provider Name | C2: Service Title/Name | D2: Version/Subscription Type | E2: URL | F2: Responsible Person or Role | G2: Service Responsibility Matrix Location | H2: Stores, Transmits, or Processes FCI | I2: CUI Type(s) Stored, Processed, or Transmitted | J2: Asset Category
L4: See CMMC Scoping Guide for Asset Category Descriptions
L5: OUSD A&S - Cybersecurity Maturity Model Certification (CMMC) (osd.mil)

Sheet Info. Sources and Destinations
A1: Relevant Requirement(s)/ Objective(s): | C1: 3.1.3c, 3.13.8a | D1: Last Reviewed By: | H1: Last Reviewed On:
A2: Information Definition | H2: Information Origination Details | K2: Information Sharing and Movement | Q2: Organization Systems and Devices Involved in the Receipt, Creation, Storage, Processing, and/or Sharing of the Information (including network and mobile devices, workstations, servers, etc.) | U2: Data Storage Details | Y2: People and Groups (e.g. Business Units, Organizational Roles, etc.) with Express or Inherent Access | AA2: Additional Details for Personally Identifiable Information, Personal Health Information, Financial Information
A3: Overview | D3: If the information is CUI | H3: Incoming Information | J3: Internally Created Information | K3: Information Transmission Type | L3: Transmission Protocol (Name and Version) | M3: Government Agencies/Offices with which Info. was/will be Shared | N3: Subcontractor(s) or Vendor(s) with which Info. was/will be Shared | O3: Encryption Module (Name and Version) Used by Source to Secure the Transmission (Include Link to FIPS 140 Validation) | P3: Encryption Module (Name and Version) Used by Destination to Secure the Transmission (Include Link to FIPS 140 Validation) | Q3: Involved in Origination/Receipt | R3: Involved in Storage (including backup/long term storage equipment, file cabinets, off-site storage, etc.) | S3: Involved in Processing the Information | T3: Involved in Sharing/Transmitting | U3: Are Copies Made of the Information, such as for use in Production or Manufacturing Equipment? If so, are all Restrictive Markings Preserved? | V3: Are Copies of the Information Kept by the Organization after the Contract ends? If so, are all Restrictive Markings Preserved? | W3: If the Information is stored on, or transmitted or processed via, a cloud-based service provider, is the information encrypted such that the service provider cannot view/edit the information? | X3: Are all Electronic Copies of the Information Encrypted Using FIPS 140-2 (or newer) Validated Module? | Y3: Express Access (i.e., access expressly granted via access controls) | Z3: Inherent Access (i.e., groups with access granted due to information being accessible to everyone, or users/groups with authority to modify access controls) | AA3: Data Source (from where does the data originate?) | AB3: Accountable Individual/Role at Source | AD3: Data Subject Type (e.g., consumer, customer, business prospect, employee, etc.) | AE3: Data Subject Location(s) (Country and State) | AF3: Personal Data Categories (e.g., race, ethnic origin, political opinions, religious beliefs, union membership, genetic/biometric data, health data, sex life, sexual orientation) | AG3: Data Element(s) Collected (e.g., height, weight, eye color, fingerprint, race, prescribed medicines, medical history, etc.) | AH3: Data Controller | AI3: Data Controller Representative | AJ3: Data Protection Officer | AK3: Purpose of Processing and/or Transfer (i.e., why are you collecting the data or giving it to someone else) | AL3: Time Limits for Erasure of the Information (i.e., how long after you receive the data do you delete it?)
A4: Information Description | B4: Information Category (e.g., Personally Identifiable Information, FCI, CUI, etc.) | C4: Relevant Contract Number(s)/ID(s) | D4: Designating Agency (if CUI) | E4: Is the information CUI Basic or CUI Specified | F4: If CUI Specified, List the Relevant Additional Safeguarding or Dissemination Control(s) | G4: Is the Information Subject to Export Control Regulations (e.g., ITAR/EAR)? | H4: Government Agency/Office from which Information was Received | I4: Prime Contractor/Customer from which Information was Received | J4: Organizational/ Business Unit Creating Information | AC4: Accountable Individual/Role at Destination

Sheet Encryption Modules Inventory
A2: Tool or Service Name | B2: Encryption Module Name | C2: Current Encryption Module Version | D2: FIPS Validated Encryption Module Version | E2: FIPS Validation Certificate Number | F2: Certificate Sunset Date

Sheet Media Library or Catalog
A1: Relevant Requirement(s)/Objective(s): | B1: 3.8.1, 3.8.2, 3.8.3, 3.8.4, 3.8.5, 3.8.6, 3.8.7, 3.8.8, 3.8.9 | C1: Last Reviewed By: | E1: Last Reviewed On:
A2: Unique Media ID | B2: Media Creator | C2: Employee Accountable for Media | D2: Date Created | E2: Media Type (e.g., paper, magnetic tape, CD-ROM, DVD, USB Drive) | F2: Media Contents | G2: Relevant Contract(s) | H2: Media Marking(s) | I2: Is the Media Backup Media? | J2: Media Storage Location | K2: Does the Media Support Hardware Encryption? If so, is it Enabled? | L2: User(s)/Role(s) Authorized to View/Access Media | M2: Media Sanitized/ Destroyed By | N2: Media Santitization/Destruction Date | O2: Media Sanitization/Destruction Method | P2: Media Sanitization/Destruction Evidence
A3: AAA0
A4: AAA1
A5: AAA2
A6: AAA3
A7: AAA4
A8: AAA5
A9: AAA6
A10: AAA7
A11: AAA8
A12: AAA9
A13: AAB0
A14: AAB1
... A43: [Continue list as necessary - do NOT reuse Media IDs]

Sheet Media Access Log
A1: Relevant Requirement(s)/ Objective(s): | B1: 3.8.1, 3.8.2, 3.8.3, 3.8.4, 3.8.5, 3.8.6, 3.8.7, 3.8.8, 3.8.9 | C1: Last Reviewed By: | E1: Last Reviewed On:
A2: Media ID (from Media Library) | B2: Checked Out By | C2: Check Out Date | D2: Check-out Purpose | E2: Expected Return Date | F2: Is the Contents of the Media Encrypted? (if no, list alternate security control(s) to protect media during transport) | G2: Will media leave storage area? (If so, to where?) | H2: Copy Media Markings | I2: Date Returned | J2: Return Witnessed By

Sheet SRM Template
A1: Tool/Service and Provider: | D1: Last Reviewed By: | F1: Last Review Date:
A2: NIST SP 800-171 Requirement ID | B2: CMMC ID | C2: Requirement | D2: Responsibility Inheritance from Provider | E2: Provider Responsibilities | F2: OSC Responsibilities | G2: MSP/MSSP Responsibilities
A3: 3.1.2* | B3: AC.L1-3.1.2 | C3: Limit system access to the types of transactions and functions that authorized users are permitted to execute.
A4: 3.1.3 | B4: AC.L2-3.1.3 | C4: Control the flow of CUI in accordance with approved authorizations.
A5: 3.1.4 | B5: AC.L2-3.1.4 | C5: Separate the duties of individuals to reduce the risk of malevolent activity without collusion.
A6: 3.1.5 | B6: AC.L2-3.1.5 | C6: Employ the principle of least privilege, including for specific security functions and privileged accounts.
A7: 3.1.6 | B7: AC.L2-3.1.6 | C7: Use non-privileged accounts or roles when accessing non-security functions.
A8: 3.1.7 | B8: AC.L2-3.1.7 | C8: Prevent non-privileged users from executing privileged functions and capture the execution of such functions in audit logs.
A9: 3.1.8 | B9: AC.L2-3.1.8 | C9: Limit unsuccessful logon attempts.
A10: 3.1.9 | B10: AC.L2-3.1.9 | C10: Provide privacy and security notices consistent with applicable CUI rules.
A11: 3.1.10 | B11: AC.L2-3.1.10 | C11: Use session lock with pattern-hiding displays to prevent access and viewing of data after a period of inactivity.
A12: 3.1.11 | B12: AC.L2-3.1.11 | C12: Terminate (automatically) a user session after a defined condition.
A13: 3.1.12 | B13: AC.L2-3.1.12 | C13: Monitor and control remote access sessions.
A14: 3.1.13 | B14: AC.L2-3.1.13 | C14: Employ cryptographic mechanisms to protect the confidentiality of remote access sessions.
... A97: 3.13.9 | B97: SC.L2-3.13.9 | C97: Terminate network connections associated with communications sessions at the end of the sessions or after
C98: a defined period of inactivity.
A99: 3.13.10 | B99: SC.L2-3.13.10 | C99: Establish and manage cryptographic keys for cryptography employed in organizational systems.
A100: 3.13.11 | B100: SC.L2-3.13.11 | C100: Employ FIPS-validated cryptography when used to protect the confidentiality of CUI.
A101: 3.13.12 | B101: SC.L2-3.13.12 | C101: Prohibit remote activation of collaborative computing devices and provide indication of devices in use to users present at the device.
A102: 3.13.13 | B102: SC.L2-3.13.13 | C102: Control and monitor the use of mobile code.
A103: 3.13.14 | B103: SC.L2-3.13.14 | C103: Control and monitor the use of Voice over Internet Protocol (VoIP) technologies.
A104: 3.13.15 | B104: SC.L2-3.13.15 | C104: Protect the authenticity of communications sessions.
A105: 3.13.16 | B105: SC.L2-3.13.16 | C105: Protect the confidentiality of CUI at rest.
A106: 3.14.1* | B106: SI.L1-3.14.1 | C106: Identify, report, and correct system flaws in a timely manner.
A107: 3.14.2* | B107: SI.L1-3.14.2 | C107: Provide protection from malicious code at designated locations within organizational systems.
A108: 3.14.3 | B108: SI.L2-3.14.3 | C108: Monitor system security alerts and advisories and take action in response.
A109: 3.14.4* | B109: SI.L1-3.14.4 | C109: Update malicious code protection mechanisms when new releases are available.
A110: 3.14.5* | B110: SI.L1-3.14.5 | C110: Perform periodic scans of organizational systems and real-time scans of files from external sources as files are downloaded, opened, or executed.
... A112: 3.14.7 | B112: SI.L2-3.14.7 | C112: Identify unauthorized use of organizational systems

Sheet Potential Assessment Consid.
A1: Phase | B1: FAR and Above Sort Order | C1: NIST SP 800-171 Family | D1: NIST SP 800-171 Identifier | E1: NIST SP 800-171 Sort-As | F1: Potential Assessment Method and Objects: Examine | G1: Potential Assessment Method and Objects: Interview | H1: Potential Assessment Method and Objects: Test
A2: 1 | B2: 1.01.0 | C2: System and Communications Protection | D2: 3.13.1 | E2: 03.13.01.0 | F2: [SELECT FROM: System and communications protection policy; procedures addressing boundary protection; security plan; list of key internal boundaries of the system; system design documentation; boundary protection hardware and software; enterprise security architecture documentation; system audit logs and records; system configuration settings and associated documentation; other relevant documents or records]. | G2: [SELECT FROM: System or network administrators; personnel with information security responsibilities; system developer; personnel with boundary protection responsibilities]. | H2: [SELECT FROM: Mechanisms implementing boundary protection capability].
A3: 1 | B3: 1.02.0 | C3: System and Communications Protection | D3: 3.13.5 | E3: 03.13.05.0 | F3: [SELECT FROM: System and communications protection policy; procedures addressing boundary protection; security plan; list of key internal boundaries of the system; system design documentation; boundary protection hardware and software; system configuration settings and associated documentation; enterprise security architecture documentation; system audit logs and records; other relevant documents or records]. | G3: [SELECT FROM: System or network administrators; personnel with information security responsibilities; system developer; personnel with boundary protection responsibilities]. | H3: [SELECT FROM: Mechanisms implementing boundary protection capability].
A4: 1 | B4: 1.03.0 | C4: Personnel Security | D4: 3.10.1 | E4: 03.10.01.0 | F4: [SELECT FROM: Physical and environmental protection policy; procedures addressing physical access authorizations; security plan; authorized personnel access list; authorization credentials; physical access list reviews; physical access termination records and associated documentation; other relevant documents or records]. | G4: [SELECT FROM: Personnel with physical access authorization responsibilities; personnel with physical access to system facility; personnel with information security responsibilities]. | H4: [SELECT FROM: Organizational processes for physical access authorizations; mechanisms supporting or implementing physical access authorizations].
A5: 1 | B5: 1.04.0 | C5: Physical Protection | D5: 3.10.3 | E5: 03.10.03.0 | F5: [SELECT FROM: Physical and environmental protection policy; procedures addressing physical access control; security plan; physical access control logs or records; inventory records of physical access control devices; system entry and exit points; records of key and lock combination changes; storage locations for physical access control devices; physical access control devices; list of security safeguards controlling access to designated publicly accessible areas within facility; other relevant documents or records]. | G5: [SELECT FROM: Personnel with physical access control responsibilities; personnel with information security responsibilities]. | H5: [SELECT FROM: Organizational processes for physical access control; mechanisms supporting or implementing physical access control; physical access control devices].
A6: 1 | B6: 1.05.0 | C6: Physical Protection | D6: 3.10.4 | E6: 03.10.04.0 | F6: [SELECT FROM: Physical and environmental protection policy; procedures addressing physical access control; security plan; physical access control logs or records; inventory records of physical access control devices; system entry and exit points; records of key and lock combination changes; storage locations for physical access control devices; physical access control devices; list of security safeguards controlling access to designated publicly accessible areas within facility; other relevant documents or records]. | G6: [SELECT FROM: Personnel with physical access control responsibilities; personnel with information security responsibilities | H6: [SELECT FROM: Organizational processes for physical access control; mechanisms supporting or implementing physical access control; physical access control devices].
A7: 1 | B7: 1.06.0 | C7: Physical Protection | D7: 3.10.5 | E7: 03.10.05.0 | F7: [SELECT FROM: Physical and environmental protection policy; procedures addressing physical access control; security plan; physical access control logs or records; inventory records of physical access control devices; system entry and exit points; records of key and lock combination changes; storage locations for physical access control devices; physical access control devices; list of security safeguards controlling access to designated publicly accessible areas within facility; other relevant documents or records]. | G7: [SELECT FROM: Personnel with physical access control responsibilities; personnel with information security responsibilities]. | H7: [SELECT FROM: Organizational processes for physical access control; mechanisms supporting or implementing physical access control; physical access control devices].
A8: 1 | B8: 1.07.0 | C8: Media Protection | D8: 3.8.3 | E8: 03.08.03.0 | F8: [SELECT FROM: System media protection policy; procedures addressing media sanitization and disposal; applicable standards and policies addressing media sanitization; security plan; media sanitization records; system audit logs and records; system design documentation; system configuration settings and associated documentation; other relevant documents or records]. | G8: [SELECT FROM: Personnel with media sanitization responsibilities; personnel with information security responsibilities; system or network administrators]. | H8: [SELECT FROM: Organizational processes for media sanitization; mechanisms supporting or implementing media sanitization].
